BEGIN:VCALENDAR
VERSION:2.0
PRODID:Vacaville, CA Calendar Creator
METHOD:PUBLISH
BEGIN:VEVENT
DTSTAMP:20260319T140252
DTSTART:20260505T180000
DTEND:20260505T190000
SUMMARY:Choosing a Path Community Meeting
DESCRIPTION:This meeting is intended to help you better understand the City's financial situation and possible paths forward. Community input is an important part of this process.
X-ALT-DESC;FMTTYPE=text/html:This meeting is intended to help you better understand the City's financial situation and possible paths forward. Community input is an important part of this process.
LOCATION:Station 75\, 111 Cogburn Circle Vacaville\, California California
CLASS:PUBLIC
END:VEVENT
END:VCALENDAR
